BEGIN:VCALENDAR
VERSION:2.0
PRODID:-//TYPO3/NONSGML Calendarize//EN
BEGIN:VEVENT
UID:calendarize-konzert-der-schulen
DTSTAMP:20260317T115658Z
DTSTART:20260612T170000Z
SUMMARY:Konzert der Schulen
DESCRIPTION:Wie im vergangenen Jahr wird der Dülkener Kindertag am Freita
 g Abend durch das Konzert der Schulen in St. Cornelius eröffnet.
X-ALT-DESC;FMTTYPE=text/html:<p>Am Freitag\, den 12. Juni 2026 um 19:00 Uh
 r wird der Dülkener Kindertag offiziell mit dem “Konzert der Schulen”
  eröffnet. Die Kirche St. Cornelius in Viersen-Dülken verwandelt sich in
  einen Ort lebendiger musikalischer Begegnung. Wie im vergangenen Jahr beg
 egnen sich junge Musikerinnen und Musiker aus Viersen und Dülken zu einem
  inspirierenden Abend\, der zeigt\, wie Musik Brücken baut – zwischen G
 enerationen\, Kulturen und Bildungseinrichtungen.</p>\n<p><strong>Teilnehm
 er:</strong></p>\n<ul><li>Gemeinsames Symphonieorchester von Albertus-Magn
 us-Gymnasium\, Clara-Schumann-Gymnasium\, Erasmus-von-Rotterdam-Gymnasium 
 und Kreismusikschule</li><li>Die Big Band des Albertus-Magnus-Gymnasiums</
 li><li>Der Kinder- und Jugendchor der Pfarrei St. Cornelius und Peter</li>
 <li>Das Blasorchester der Kreismusikschule</li></ul>\n<p>Eintritt frei&nbs
 p\;– alle sind herzlich willkommen!</p>\n<p><a href="t3://record?identif
 ier=tx_news&amp\;uid=42">Impressionen vom “Konzert der Schulen 2025”</
 a></p>
LOCATION:Alter Markt 1, 41751 Viersen		
END:VEVENT
BEGIN:VEVENT
UID:calendarize-kindertheater-kommissarin-flotte-lotte-ein-schuss-zu-viel
DTSTAMP:20260317T132432Z
DTSTART:20260613T150000Z
SUMMARY:Kindertheater „Kommissarin Flotte Lotte: Ein Schuss zu viel“ 
DESCRIPTION:Mitratekrimi für Kinder von 9 bis 14 Jahren im Rahmen des Dü
 lkener Kindertags.
X-ALT-DESC;FMTTYPE=text/html:<h2>Mitratekrimi für Kinder von 9 bis 14 Jah
 ren</h2>\n<p>Im Rahmen des Dülkener Kindertags präsentieren wir einen Mi
 tratekrimi:</p>\n<p>In die Villa des Aktienhändlers Hartmann wurde eingeb
 rochen. Bargeld und Aktien wurden gestohlen und es fielen drei Schüsse. D
 em Täter ist nur ein kleiner Fehler passiert\, der ihn schlussendlich üb
 erführt. Bevor der Fall gelöst wird\, kann das Publikum raten\, wer der 
 Täter ist. Die besten Detektive und Detektivinnen werden prämiert.</p>\n
 <p>Das Theaterstück von Rudolf Gigler wird gespielt von Jennifer Buschman
 ns Theatergruppe\, bestehend aus Kindern und Jugendlichen im Alter von 8 b
 is 15 Jahren.</p>
LOCATION:Lange Str. 2, 41751 Viersen		
END:VEVENT
BEGIN:VEVENT
UID:calendarize-duelkener-kindertag
DTSTAMP:20260315T192909Z
DTSTART:20260614T090000Z
DTEND:20260614T160000Z
SUMMARY:Dülkener Kindertag
DESCRIPTION:Seit mehr als 35 Jahren verwandelt sich die Dülkener Altstadt
  im Frühsommer zu einem einzigen großen Spielplatz mit zahlreichen Spiel
 - und Bewegungsangeboten für die ganze Familie.
X-ALT-DESC;FMTTYPE=text/html:<p>Seit mehr als 35&nbsp\;Jahren verwandelt s
 ich die Dülkener Altstadt im Frühsommer zu einem einzigen großen Spielp
 latz mit zahlreichen Spiel- und Bewegungsangeboten für die ganze Familie.
  Möglich wird der Kindertag durch das große Engagement von Vereinen\, Ve
 rbänden\, gemeinnützigen Einrichtungen und sozialen Gruppierungen\, die 
 ihre Tatkraft an diesem Tag in den Dienst der guten Sache stellen. Begleit
 et wird das Fest durch einen verkaufsoffenen Sonntag ab 13&nbsp\;Uhr.</p>\
 n<p>2024 wurde der Kindertag erstmals durch die Stiftung „<strong>Funda­
 ción für Kinder</strong>“ und das <strong>Dülken­Büro</strong> mit 
 seinen engagierten Menschen organisiert&nbsp\;– die <strong>Stadt Vierse
 n</strong> unterstützt dieses Engagement als Kooperationspartnerin.</p>\n
 <p>Mehr Infos: <a href="t3://page?uid=153">duelken.de/duelkener-kindertag-
 2026</a></p>
LOCATION:Dülkener Innenstadt	
GEO:51.25161308;6.33491811
END:VEVENT
END:VCALENDAR
